{
 "currentVersion": 11.5,
 "serviceDescription": "Lufo2023_WebLayer",
 "serviceItemId": "96dad5984efa4c568832d136ad65a41c",
 "name": "Lufo2023_WebLayer",
 "description": "",
 "extent": {
  "xmin": 177000.0020694692,
  "ymin": 440999.99793053087,
  "xmax": 188999.98817881642,
  "ymax": 448500.0078524257,
  "spatialReference": {
   "wkid": 28992,
   "latestWkid": 28992
  }
 },
 "initialExtent": {
  "xmin": 177000.0020694692,
  "ymin": 440999.99793053087,
  "xmax": 188999.98817881642,
  "ymax": 448500.0078524257,
  "spatialReference": {
   "wkid": 28992,
   "latestWkid": 28992
  }
 },
 "fullExtent": {
  "xmin": 177000.0020694692,
  "ymin": 440999.99793053087,
  "xmax": 188999.98817881642,
  "ymax": 448500.0078524257,
  "spatialReference": {
   "wkid": 28992,
   "latestWkid": 28992
  }
 },
 "sortableFields": "",
 "bandCount": 3,
 "pixelType": "U8",
 "minValues": [],
 "maxValues": [],
 "meanValues": [],
 "stdvValues": [],
 "serviceProperties": "Center<\/MosaicMethod>First<\/MosaicOperator>true<\/SortAscending><\/LockImageID><\/TileOrderField>0<\/TileOrderBase>0,000000<\/AvgImageSpacingX>0,000000<\/AvgImageSpacingY>0.0<\/ViewPointX>0.0<\/ViewPointY>0.0<\/ViewPointDefShiftX>0.0<\/ViewPointDefShiftY>None<\/CompressionMethod>75<\/CompressionQuality>0,010000<\/CompressionTolerance>Bilinear<\/SamplingMethod><\/ImageServiceProperties><\/ImageServer>",
 "allowedFields": "",
 "hasMultidimensions": false,
 "pixelSizeX": 0.04960947421894848,
 "pixelSizeY": 0.049609474218948256,
 "meanPixelSize": 0.04960947421894837,
 "datasetFormat": "AFR",
 "uncompressedSize": 109707062727,
 "blockWidth": 256,
 "blockHeight": 256,
 "compressionType": "None",
 "bandNames": [
  "Band_1",
  "Band_2",
  "Band_3"
 ],
 "allowCopy": true,
 "allowAnalysis": true,
 "itemAccess": false,
 "inspectionCapabilities": "",
 "minPixelSize": 0,
 "maxPixelSize": 0,
 "copyrightText": "",
 "serviceDataType": "esriImageServiceDataTypeRGB",
 "serviceSourceType": "esriImageServiceSourceTypeDataset",
 "objectIdField": "",
 "fields": [],
 "capabilities": "Mensuration,Image,Metadata",
 "defaultMosaicMethod": "Center",
 "allowedMosaicMethods": "",
 "sortField": "",
 "sortValue": null,
 "sortAscending": true,
 "mosaicOperator": "First",
 "defaultCompressionQuality": 75,
 "defaultResamplingMethod": "Bilinear",
 "maxImageHeight": 4100,
 "maxImageWidth": 15000,
 "allowRasterFunction": true,
 "rasterFunctionInfos": [
  {
   "name": "None",
   "description": "",
   "help": ""
  }
 ],
 "rasterTypeInfos": [
  {
   "name": "Raster Dataset",
   "description": "Supports all ArcGIS Raster Datasets",
   "help": ""
  }
 ],
 "mensurationCapabilities": "Basic",
 "hasHistograms": false,
 "hasColormap": false,
 "hasRasterAttributeTable": false,
 "minScale": 0,
 "maxScale": 0,
 "exportTilesAllowed": false,
 "supportsStatistics": false,
 "supportsAdvancedQueries": false,
 "editFieldsInfo": null,
 "ownershipBasedAccessControlForRasters": null,
 "allowComputeTiePoints": false,
 "useStandardizedQueries": true,
 "advancedQueryCapabilities": {
  "useStandardizedQueries": true,
  "supportsStatistics": false,
  "supportsOrderBy": false,
  "supportsDistinct": false,
  "supportsPagination": false
 },
 "spatialReference": {
  "wkid": 28992,
  "latestWkid": 28992
 },
 "resampling": false
}
