{
 "currentVersion": 11.5,
 "cimVersion": "3.5.0",
 "serviceDescription": "",
 "mapName": "Map",
 "description": "",
 "copyrightText": "",
 "supportsDynamicLayers": true,
 "layers": [
  {
   "id": 5,
   "name": "Gem_Renkum23",
   "parentLayerId": -1,
   "defaultVisibility": true,
   "subLayerIds": null,
   "minScale": 0,
   "maxScale": 0,
   "type": "Feature Layer",
   "geometryType": "esriGeometryPolygon",
   "supportsDynamicLegends": true
  }
 ],
 "tables": [],
 "spatialReference": {
  "wkid": 28992,
  "latestWkid": 28992,
  "xyTolerance": 0.001,
  "zTolerance": 0.001,
  "mTolerance": 0.001,
  "falseX": -30515500,
  "falseY": -30279500,
  "xyUnits": 10000,
  "falseZ": -100000,
  "zUnits": 10000,
  "falseM": -100000,
  "mUnits": 10000
 },
 "singleFusedMapCache": true,
 "tileInfo": {
  "rows": 256,
  "cols": 256,
  "dpi": 96,
  "format": "MIXED",
  "compressionQuality": 90,
  "origin": {
   "x": -285401.92,
   "y": 903401.92
  },
  "spatialReference": {
   "wkid": 28992,
   "latestWkid": 28992,
   "xyTolerance": 0.001,
   "zTolerance": 0.001,
   "mTolerance": 0.001,
   "falseX": -30515500,
   "falseY": -30279500,
   "xyUnits": 1.467164113627529E8,
   "falseZ": -100000,
   "zUnits": 10000,
   "falseM": -100000,
   "mUnits": 10000
  },
  "lods": [
   {
    "level": 0,
    "resolution": 3251.206502413005,
    "scale": 12288000
   },
   {
    "level": 1,
    "resolution": 1625.6032512065026,
    "scale": 6144000
   },
   {
    "level": 2,
    "resolution": 812.8016256032513,
    "scale": 3072000
   },
   {
    "level": 3,
    "resolution": 406.40081280162565,
    "scale": 1536000
   },
   {
    "level": 4,
    "resolution": 203.20040640081282,
    "scale": 768000
   },
   {
    "level": 5,
    "resolution": 101.60020320040641,
    "scale": 384000
   },
   {
    "level": 6,
    "resolution": 50.800101600203206,
    "scale": 192000
   },
   {
    "level": 7,
    "resolution": 25.400050800101603,
    "scale": 96000
   },
   {
    "level": 8,
    "resolution": 12.700025400050801,
    "scale": 48000
   },
   {
    "level": 9,
    "resolution": 6.350012700025401,
    "scale": 24000
   },
   {
    "level": 10,
    "resolution": 3.1750063500127004,
    "scale": 12000
   },
   {
    "level": 11,
    "resolution": 1.5875031750063502,
    "scale": 6000
   },
   {
    "level": 12,
    "resolution": 0.7937515875031751,
    "scale": 3000
   },
   {
    "level": 13,
    "resolution": 0.39687579375158755,
    "scale": 1500
   },
   {
    "level": 14,
    "resolution": 0.19843789687579377,
    "scale": 750
   },
   {
    "level": 15,
    "resolution": 0.09921894843789689,
    "scale": 375
   },
   {
    "level": 16,
    "resolution": 0.04960947421894844,
    "scale": 187.5
   }
  ]
 },
 "storageInfo": {
  "storageFormat": "esriMapCacheStorageModeCompactV2",
  "packetSize": 128
 },
 "initialExtent": {
  "xmin": 175561.6229429061,
  "ymin": 439725.93607740663,
  "xmax": 187241.74912587146,
  "ymax": 448314.2641531164,
  "spatialReference": {
   "wkid": 28992,
   "latestWkid": 28992,
   "xyTolerance": 0.001,
   "zTolerance": 0.001,
   "mTolerance": 0.001,
   "falseX": -30515500,
   "falseY": -30279500,
   "xyUnits": 10000,
   "falseZ": -100000,
   "zUnits": 10000,
   "falseM": -100000,
   "mUnits": 10000
  }
 },
 "fullExtent": {
  "xmin": 177430.73699999973,
  "ymin": 441246.29399999976,
  "xmax": 188231.98900000006,
  "ymax": 448499.6270000003,
  "spatialReference": {
   "wkid": 28992,
   "latestWkid": 28992,
   "xyTolerance": 0.001,
   "zTolerance": 0.001,
   "mTolerance": 0.001,
   "falseX": -30515500,
   "falseY": -30279500,
   "xyUnits": 10000,
   "falseZ": -100000,
   "zUnits": 10000,
   "falseM": -100000,
   "mUnits": 10000
  }
 },
 "datesInUnknownTimezone": false,
 "minScale": 192000,
 "maxScale": 187.5,
 "units": "esriMeters",
 "supportedImageFormatTypes": "PNG32,PNG24,PNG,JPG,DIB,TIFF,EMF,PS,PDF,GIF,SVG,SVGZ,BMP",
 "documentInfo": {
  "Title": "Map",
  "Author": "",
  "Comments": "",
  "Subject": "",
  "Category": "",
  "Version": "2.9.0",
  "AntialiasingMode": "Fast",
  "TextAntialiasingMode": "Force",
  "Keywords": ""
 },
 "supportsQueryDomains": true,
 "capabilities": "Map",
 "supportedQueryFormats": "JSON, geoJSON, PBF",
 "exportTilesAllowed": false,
 "referenceScale": 0.0,
 "supportsDatumTransformation": true,
 "floorAwareMapProperties": {
  "defaultFloorFilterSettings": {
   "isEnabled": false
  }
 },
 "archivingInfo": {
  "supportsHistoricMoment": false
 },
 "supportsClipping": true,
 "supportsSpatialFilter": true,
 "supportsTimeRelation": true,
 "supportsQueryDataElements": true,
 "mapUnits": {
  "uwkid": 9001
 },
 "maxSelectionCount": 2000,
 "maxRecordCount": 2000,
 "maxImageHeight": 4096,
 "maxImageWidth": 4096,
 "supportedExtensions": "WMSServer",
 "resampling": false,
 "serviceItemId": "14ed8b6e07004efb9a91174e237451a4"
}
